BEGIN:VCALENDAR
VERSION:2.0
PRODID:-//Foyers ruraux 13 - ECPv6.2.9//NONSGML v1.0//EN
CALSCALE:GREGORIAN
METHOD:PUBLISH
X-ORIGINAL-URL:https://foyersruraux13.org
X-WR-CALDESC:évènements pour Foyers ruraux 13
REFRESH-INTERVAL;VALUE=DURATION:PT1H
X-Robots-Tag:noindex
X-PUBLISHED-TTL:PT1H
BEGIN:VTIMEZONE
TZID:Europe/Paris
BEGIN:DAYLIGHT
TZOFFSETFROM:+0100
TZOFFSETTO:+0200
TZNAME:CEST
DTSTART:20240331T010000
END:DAYLIGHT
BEGIN:STANDARD
TZOFFSETFROM:+0200
TZOFFSETTO:+0100
TZNAME:CET
DTSTART:20241027T010000
END:STANDARD
END:VTIMEZONE
BEGIN:VEVENT
DTSTART;TZID=Europe/Paris:20241219T183000
DTEND;TZID=Europe/Paris:20241219T183000
DTSTAMP:20260423T030636
CREATED:20241112T152511Z
LAST-MODIFIED:20241112T152511Z
UID:25965-1734633000-1734633000@foyersruraux13.org
SUMMARY:Les Réunions de Secteurs d'Automne 2024
DESCRIPTION:
URL:https://foyersruraux13.org/evenement/les-reunions-de-secteurs-dautomne-2024/2024-12-19/
CATEGORIES:agenda
ORGANIZER;CN="Foyers Ruraux 13":MAILTO:foyersruraux13@gmail.com
END:VEVENT
END:VCALENDAR