BEGIN:VCALENDAR
VERSION:2.0
PRODID:-//Foyers ruraux 13 - ECPv6.2.9//NONSGML v1.0//EN
CALSCALE:GREGORIAN
METHOD:PUBLISH
X-ORIGINAL-URL:https://foyersruraux13.org
X-WR-CALDESC:évènements pour Foyers ruraux 13
REFRESH-INTERVAL;VALUE=DURATION:PT1H
X-Robots-Tag:noindex
X-PUBLISHED-TTL:PT1H
BEGIN:VTIMEZONE
TZID:Europe/Paris
BEGIN:DAYLIGHT
TZOFFSETFROM:+0100
TZOFFSETTO:+0200
TZNAME:CEST
DTSTART:20250330T010000
END:DAYLIGHT
BEGIN:STANDARD
TZOFFSETFROM:+0200
TZOFFSETTO:+0100
TZNAME:CET
DTSTART:20251026T010000
END:STANDARD
END:VTIMEZONE
BEGIN:VEVENT
DTSTART;TZID=Europe/Paris:20250521T103000
DTEND;TZID=Europe/Paris:20250521T120000
DTSTAMP:20260422T193359
CREATED:20250205T123251Z
LAST-MODIFIED:20250205T123251Z
UID:26233-1747823400-1747828800@foyersruraux13.org
SUMMARY:les ATELIERS NUMÉRIQUES du mercredi matin
DESCRIPTION:PLAQUETTE d’INSCRIPTION – les Ateliers Numériques du Mercredi Matin
URL:https://foyersruraux13.org/evenement/les-ateliers-numeriques-du-mercredi-matin-2/2025-05-21/
LOCATION:Siège des Foyers Ruraux 13\, 4\, Cours de la République\, Charleval en Provence\, 13350\, France
CATEGORIES:agenda
END:VEVENT
END:VCALENDAR