BEGIN:VCALENDAR
VERSION:2.0
PRODID:-//Foyers ruraux 13 - ECPv6.2.9//NONSGML v1.0//EN
CALSCALE:GREGORIAN
METHOD:PUBLISH
X-WR-CALNAME:Foyers ruraux 13
X-ORIGINAL-URL:https://foyersruraux13.org
X-WR-CALDESC:évènements pour Foyers ruraux 13
REFRESH-INTERVAL;VALUE=DURATION:PT1H
X-Robots-Tag:noindex
X-PUBLISHED-TTL:PT1H
BEGIN:VTIMEZONE
TZID:Europe/Paris
BEGIN:DAYLIGHT
TZOFFSETFROM:+0100
TZOFFSETTO:+0200
TZNAME:CEST
DTSTART:20250330T010000
END:DAYLIGHT
BEGIN:STANDARD
TZOFFSETFROM:+0200
TZOFFSETTO:+0100
TZNAME:CET
DTSTART:20251026T010000
END:STANDARD
END:VTIMEZONE
BEGIN:VEVENT
DTSTART;VALUE=DATE:20251113
DTEND;VALUE=DATE:20251114
DTSTAMP:20260422T102251
CREATED:20250923T080743Z
LAST-MODIFIED:20250923T080750Z
UID:26400-1762992000-1763078399@foyersruraux13.org
SUMMARY:Formation PSC 1 le 13 Novembre 2025
DESCRIPTION:TÉLÉCHARGER la PLAQUETTE Formation PSC 1 – 13 NOV 2025_compressed
URL:https://foyersruraux13.org/evenement/formation-psc-1-le-13-novembre-2025/
LOCATION:Siège fédéral des Foyers Ruraux 13 à CHARLEVAL
CATEGORIES:agenda
ATTACH;FMTTYPE=image/png:https://foyersruraux13.org/wp-content/uploads/sites/40/2025/09/Capture-decran-2025-09-23-a-10.03.17.png
ORGANIZER;CN="Foyers Ruraux 13":MAILTO:foyersruraux13@gmail.com
END:VEVENT
END:VCALENDAR