BEGIN:VCALENDAR
VERSION:2.0
PRODID:-//Foyers ruraux 13 - ECPv6.2.9//NONSGML v1.0//EN
CALSCALE:GREGORIAN
METHOD:PUBLISH
X-ORIGINAL-URL:https://foyersruraux13.org
X-WR-CALDESC:évènements pour Foyers ruraux 13
REFRESH-INTERVAL;VALUE=DURATION:PT1H
X-Robots-Tag:noindex
X-PUBLISHED-TTL:PT1H
BEGIN:VTIMEZONE
TZID:Europe/Paris
BEGIN:DAYLIGHT
TZOFFSETFROM:+0100
TZOFFSETTO:+0200
TZNAME:CEST
DTSTART:20260329T010000
END:DAYLIGHT
BEGIN:STANDARD
TZOFFSETFROM:+0200
TZOFFSETTO:+0100
TZNAME:CET
DTSTART:20261025T010000
END:STANDARD
END:VTIMEZONE
BEGIN:VEVENT
DTSTART;TZID=Europe/Paris:20260401T090000
DTEND;TZID=Europe/Paris:20260401T170000
DTSTAMP:20260422T130356
CREATED:20260127T093411Z
LAST-MODIFIED:20260127T093449Z
UID:26540-1775034000-1775062800@foyersruraux13.org
SUMMARY:Formation PSC 1 - PRÉVENTION SECOURS CIVIQUES
DESCRIPTION:TÉLÉCHARGER “Formation PSC 1 – 1er AVRIL 2026”
URL:https://foyersruraux13.org/evenement/26540/
LOCATION:Siège fédéral des Foyers Ruraux 13 à CHARLEVAL
CATEGORIES:agenda
ATTACH;FMTTYPE=image/png:https://foyersruraux13.org/wp-content/uploads/sites/40/2026/01/first-aid-7846396_1280.png
ORGANIZER;CN="Foyers Ruraux 13":MAILTO:foyersruraux13@gmail.com
END:VEVENT
END:VCALENDAR