BEGIN:VCALENDAR
VERSION:2.0
PRODID:-//Foyers ruraux 13 - ECPv6.2.9//NONSGML v1.0//EN
CALSCALE:GREGORIAN
METHOD:PUBLISH
X-ORIGINAL-URL:https://foyersruraux13.org
X-WR-CALDESC:évènements pour Foyers ruraux 13
REFRESH-INTERVAL;VALUE=DURATION:PT1H
X-Robots-Tag:noindex
X-PUBLISHED-TTL:PT1H
BEGIN:VTIMEZONE
TZID:Europe/Paris
BEGIN:DAYLIGHT
TZOFFSETFROM:+0100
TZOFFSETTO:+0200
TZNAME:CEST
DTSTART:20260329T010000
END:DAYLIGHT
BEGIN:STANDARD
TZOFFSETFROM:+0200
TZOFFSETTO:+0100
TZNAME:CET
DTSTART:20261025T010000
END:STANDARD
END:VTIMEZONE
BEGIN:VEVENT
DTSTART;TZID=Europe/Paris:20261104T090000
DTEND;TZID=Europe/Paris:20261104T170000
DTSTAMP:20260422T174400
CREATED:20260409T064702Z
LAST-MODIFIED:20260409T064734Z
UID:26580-1793782800-1793811600@foyersruraux13.org
SUMMARY:Formation PSC 1 - 4 Nov 2026 à Charleval
DESCRIPTION:  \nTÉLÉCHARGER la PLAQUETTE “Formation PSC 1 – 4 NOVEMBRE 2026”
URL:https://foyersruraux13.org/evenement/formation-psc-1-4-nov-2026-a-charleval/
LOCATION:Siège fédéral des Foyers Ruraux 13 à CHARLEVAL
CATEGORIES:agenda
ATTACH;FMTTYPE=image/png:https://foyersruraux13.org/wp-content/uploads/sites/40/2026/01/first-aid-7846396_1280.png
ORGANIZER;CN="Foyers Ruraux 13":MAILTO:foyersruraux13@gmail.com
END:VEVENT
END:VCALENDAR